Package: mfa Version: 1.31.0 Command: /home/biocbuild/R/R/bin/R CMD build --keep-empty-dirs --no-resave-data mfa StartedAt: 2025-09-30 01:23:25 -0000 (Tue, 30 Sep 2025) EndedAt: 2025-09-30 01:24:05 -0000 (Tue, 30 Sep 2025) EllapsedTime: 40.0 seconds RetCode: 1 Status: ERROR PackageFile: None PackageFileSize: NA