Package: mfa Version: 1.29.0 Command: /home/biocbuild/bbs-3.21-bioc/R/bin/R CMD build --keep-empty-dirs --no-resave-data mfa StartedAt: 2025-02-16 18:01:59 -0500 (Sun, 16 Feb 2025) EndedAt: 2025-02-16 18:02:29 -0500 (Sun, 16 Feb 2025) EllapsedTime: 30.0 seconds RetCode: 0 Status: OK PackageFile: mfa_1.29.0.tar.gz PackageFileSize: 657.9 KiB