Package: mfa Version: 1.29.0 Command: /Library/Frameworks/R.framework/Resources/bin/R CMD INSTALL mfa StartedAt: 2025-02-16 15:31:38 -0500 (Sun, 16 Feb 2025) EndedAt: 2025-02-16 15:31:58 -0500 (Sun, 16 Feb 2025) EllapsedTime: 19.2 seconds RetCode: 0 Status: OK