Package: mfa Version: 1.29.0 Command: /Library/Frameworks/R.framework/Resources/bin/R CMD check --install=check:mfa.install-out.txt --library=/Library/Frameworks/R.framework/Resources/library --no-vignettes --timings mfa_1.29.0.tar.gz StartedAt: 2025-02-16 21:27:59 -0500 (Sun, 16 Feb 2025) EndedAt: 2025-02-16 21:29:23 -0500 (Sun, 16 Feb 2025) EllapsedTime: 83.9 seconds RetCode: 0 Status: OK CheckDir: mfa.Rcheck Warnings: 0