Package: mfa Version: 1.29.0 Command: rm -rf mfa.buildbin-libdir && mkdir mfa.buildbin-libdir && /Users/biocbuild/BBS/utils/build-universal.sh mfa_1.29.0.tar.gz /Library/Frameworks/R.framework/Resources/bin/R mfa.buildbin-libdir StartedAt: 2025-02-17 00:29:43 -0500 (Mon, 17 Feb 2025) EndedAt: 2025-02-17 00:30:06 -0500 (Mon, 17 Feb 2025) EllapsedTime: 23.0 seconds RetCode: 0 Status: OK PackageFile: mfa_1.29.0.tgz PackageFileSize: 640.8 KiB