Package: mfa Version: 1.29.0 Command: /Library/Frameworks/R.framework/Resources/bin/R CMD INSTALL mfa StartedAt: 2025-01-31 15:20:01 -0500 (Fri, 31 Jan 2025) EndedAt: 2025-01-31 15:20:07 -0500 (Fri, 31 Jan 2025) EllapsedTime: 5.9 seconds RetCode: 0 Status: OK