Package: mfa Version: 1.29.0 Command: /Library/Frameworks/R.framework/Resources/bin/R CMD build --keep-empty-dirs --no-resave-data mfa StartedAt: 2025-01-31 16:56:45 -0500 (Fri, 31 Jan 2025) EndedAt: 2025-01-31 16:56:59 -0500 (Fri, 31 Jan 2025) EllapsedTime: 14.1 seconds RetCode: 0 Status: OK PackageFile: mfa_1.29.0.tar.gz PackageFileSize: 544 KiB