Package: mfa Version: 1.31.0 Maintainer: Kieran Campbell MaintainerEmail: kieranrcampbell at gmail.com git_url: https://git.bioconductor.org/packages/mfa git_branch: devel git_last_commit: 4382e89 git_last_commit_date: 2025-04-15 11:11:51 -0400 (Tue, 15 Apr 2025)