Package: methylumi Version: 2.53.0 Command: chmod a+r methylumi -R && E:\biocbuild\bbs-3.21-bioc\R\bin\R.exe CMD build --keep-empty-dirs --no-resave-data methylumi StartedAt: 2025-02-03 20:03:39 -0500 (Mon, 03 Feb 2025) EndedAt: 2025-02-03 20:08:59 -0500 (Mon, 03 Feb 2025) EllapsedTime: 320.4 seconds RetCode: 0 Status: OK PackageFile: methylumi_2.53.0.tar.gz PackageFileSize: 7.333 MiB