Package: methylumi Version: 2.53.0 Command: /home/biocbuild/R/R/bin/R CMD check --install=check:methylumi.install-out.txt --library=/home/biocbuild/R/R/site-library --no-vignettes --timings methylumi_2.53.0.tar.gz StartedAt: 2025-01-28 12:23:01 -0000 (Tue, 28 Jan 2025) EndedAt: 2025-01-28 12:30:30 -0000 (Tue, 28 Jan 2025) EllapsedTime: 449.5 seconds RetCode: 0 Status: WARNINGS CheckDir: methylumi.Rcheck Warnings: 6