Package: methylumi Version: 2.55.0 Command: /Library/Frameworks/R.framework/Resources/bin/R CMD check --install=check:methylumi.install-out.txt --library=/Library/Frameworks/R.framework/Resources/library --no-vignettes --timings methylumi_2.55.0.tar.gz StartedAt: 2025-05-01 20:16:32 -0400 (Thu, 01 May 2025) EndedAt: 2025-05-01 20:19:00 -0400 (Thu, 01 May 2025) EllapsedTime: 147.8 seconds RetCode: 0 Status: OK CheckDir: methylumi.Rcheck Warnings: 0