Package: methylscaper Version: 1.17.0 Command: chmod a+r methylscaper -R && F:\biocbuild\bbs-3.22-bioc\R\bin\R.exe CMD build --keep-empty-dirs --no-resave-data methylscaper StartedAt: 2025-08-14 21:24:18 -0400 (Thu, 14 Aug 2025) EndedAt: 2025-08-14 21:26:07 -0400 (Thu, 14 Aug 2025) EllapsedTime: 109.1 seconds RetCode: 0 Status: OK PackageFile: methylscaper_1.17.0.tar.gz PackageFileSize: 3.803 MiB