Package: methylclock Version: 1.15.0 Command: rm -rf methylclock.buildbin-libdir && mkdir methylclock.buildbin-libdir && F:\biocbuild\bbs-3.22-bioc\R\bin\R.exe CMD INSTALL --build --library=methylclock.buildbin-libdir methylclock_1.15.0.tar.gz StartedAt: 2025-08-15 10:40:37 -0400 (Fri, 15 Aug 2025) EndedAt: 2025-08-15 10:42:25 -0400 (Fri, 15 Aug 2025) EllapsedTime: 108.4 seconds RetCode: 0 Status: OK PackageFile: methylclock_1.15.0.zip PackageFileSize: 1.012 MiB