Package: methylclock Version: 1.13.0 Command: rm -rf methylclock.buildbin-libdir && mkdir methylclock.buildbin-libdir && /Users/biocbuild/BBS/utils/build-universal.sh methylclock_1.13.0.tar.gz /Library/Frameworks/R.framework/Resources/bin/R methylclock.buildbin-libdir StartedAt: 2025-02-15 00:32:30 -0500 (Sat, 15 Feb 2025) EndedAt: 2025-02-15 00:34:07 -0500 (Sat, 15 Feb 2025) EllapsedTime: 97.0 seconds RetCode: 0 Status: OK PackageFile: methylclock_1.13.0.tgz PackageFileSize: 1.022 MiB