Package: methylSig Version: 1.19.0 Command: rm -rf methylSig.buildbin-libdir && mkdir methylSig.buildbin-libdir && E:\biocbuild\bbs-3.21-bioc\R\bin\R.exe CMD INSTALL --build --library=methylSig.buildbin-libdir methylSig_1.19.0.tar.gz StartedAt: 2025-02-06 08:26:48 -0500 (Thu, 06 Feb 2025) EndedAt: 2025-02-06 08:27:56 -0500 (Thu, 06 Feb 2025) EllapsedTime: 68.5 seconds RetCode: 0 Status: OK PackageFile: methylSig_1.19.0.zip PackageFileSize: 590.3 KiB