Package: methylSig Version: 1.21.0 Command: /Library/Frameworks/R.framework/Resources/bin/R CMD check --install=check:methylSig.install-out.txt --library=/Library/Frameworks/R.framework/Resources/library --no-vignettes --timings methylSig_1.21.0.tar.gz StartedAt: 2025-04-27 21:40:02 -0400 (Sun, 27 Apr 2025) EndedAt: 2025-04-27 21:46:05 -0400 (Sun, 27 Apr 2025) EllapsedTime: 363.5 seconds RetCode: 0 Status: OK CheckDir: methylSig.Rcheck Warnings: 0