Package: methylSig Version: 1.21.0 Command: /Library/Frameworks/R.framework/Resources/bin/R CMD build --keep-empty-dirs --no-resave-data methylSig StartedAt: 2025-04-27 17:23:27 -0400 (Sun, 27 Apr 2025) EndedAt: 2025-04-27 17:25:05 -0400 (Sun, 27 Apr 2025) EllapsedTime: 98.0 seconds RetCode: 0 Status: OK PackageFile: methylSig_1.21.0.tar.gz PackageFileSize: 492.6 KiB