Package: methylSig Version: 1.19.0 Command: /Library/Frameworks/R.framework/Resources/bin/R CMD INSTALL methylSig StartedAt: 2025-02-05 15:11:20 -0500 (Wed, 05 Feb 2025) EndedAt: 2025-02-05 15:11:40 -0500 (Wed, 05 Feb 2025) EllapsedTime: 20.3 seconds RetCode: 0 Status: OK