Package: methylSig Version: 1.19.0 Command: /Library/Frameworks/R.framework/Resources/bin/R CMD build --keep-empty-dirs --no-resave-data methylSig StartedAt: 2025-02-05 16:55:38 -0500 (Wed, 05 Feb 2025) EndedAt: 2025-02-05 16:56:18 -0500 (Wed, 05 Feb 2025) EllapsedTime: 39.4 seconds RetCode: 0 Status: OK PackageFile: methylSig_1.19.0.tar.gz PackageFileSize: 492.8 KiB