Package: methylSig Version: 1.19.0 Command: rm -rf methylSig.buildbin-libdir && mkdir methylSig.buildbin-libdir && /Users/biocbuild/BBS/utils/build-universal.sh methylSig_1.19.0.tar.gz /Library/Frameworks/R.framework/Resources/bin/R methylSig.buildbin-libdir StartedAt: 2025-02-05 22:25:46 -0500 (Wed, 05 Feb 2025) EndedAt: 2025-02-05 22:26:08 -0500 (Wed, 05 Feb 2025) EllapsedTime: 21.4 seconds RetCode: 0 Status: OK PackageFile: methylSig_1.19.0.tgz PackageFileSize: 583.1 KiB