Package: methylPipe Version: 1.43.1 Command: chmod a+r methylPipe -R && F:\biocbuild\bbs-3.22-bioc\R\bin\R.exe CMD build --keep-empty-dirs --no-resave-data methylPipe StartedAt: 2025-08-14 21:24:17 -0400 (Thu, 14 Aug 2025) EndedAt: 2025-08-14 21:27:37 -0400 (Thu, 14 Aug 2025) EllapsedTime: 200.1 seconds RetCode: 0 Status: OK PackageFile: methylPipe_1.43.1.tar.gz PackageFileSize: 783.6 KiB