Package: methylPipe Version: 1.43.1 Command: rm -rf methylPipe.buildbin-libdir && mkdir methylPipe.buildbin-libdir && /Users/biocbuild/BBS/utils/build-universal.sh methylPipe_1.43.1.tar.gz /Library/Frameworks/R.framework/Resources/bin/R methylPipe.buildbin-libdir StartedAt: 2025-10-02 01:59:36 -0400 (Thu, 02 Oct 2025) EndedAt: 2025-10-02 02:00:56 -0400 (Thu, 02 Oct 2025) EllapsedTime: 79.8 seconds RetCode: 0 Status: OK PackageFile: methylPipe_1.43.1.tgz PackageFileSize: 1.485 MiB