Package: methylMnM Version: 1.47.0 Command: /home/biocbuild/bbs-3.22-bioc/R/bin/R CMD INSTALL methylMnM StartedAt: 2025-10-09 15:05:39 -0400 (Thu, 09 Oct 2025) EndedAt: 2025-10-09 15:06:05 -0400 (Thu, 09 Oct 2025) EllapsedTime: 25.9 seconds RetCode: 0 Status: OK