Package: methylKit Version: 1.35.0 Command: /Library/Frameworks/R.framework/Resources/bin/R CMD INSTALL methylKit StartedAt: 2025-05-07 15:27:04 -0400 (Wed, 07 May 2025) EndedAt: 2025-05-07 15:28:21 -0400 (Wed, 07 May 2025) EllapsedTime: 77.5 seconds RetCode: 0 Status: OK