Package: methylInheritance Version: 1.33.1 Command: /home/biocbuild/R/R/bin/R CMD INSTALL methylInheritance StartedAt: 2025-10-02 20:51:07 -0000 (Thu, 02 Oct 2025) EndedAt: 2025-10-02 20:51:56 -0000 (Thu, 02 Oct 2025) EllapsedTime: 49.4 seconds RetCode: 0 Status: OK