Package: methylInheritance Version: 1.33.1 Command: /home/biocbuild/R/R/bin/R CMD build --keep-empty-dirs --no-resave-data methylInheritance StartedAt: 2025-10-03 01:13:36 -0000 (Fri, 03 Oct 2025) EndedAt: 2025-10-03 01:15:21 -0000 (Fri, 03 Oct 2025) EllapsedTime: 105.0 seconds RetCode: 0 Status: OK PackageFile: methylInheritance_1.33.1.tar.gz PackageFileSize: 1.697 MiB