Package: methylInheritance Version: 1.33.0 Command: /Library/Frameworks/R.framework/Resources/bin/R CMD INSTALL methylInheritance StartedAt: 2025-07-18 15:28:24 -0400 (Fri, 18 Jul 2025) EndedAt: 2025-07-18 15:29:14 -0400 (Fri, 18 Jul 2025) EllapsedTime: 50.3 seconds RetCode: 0 Status: OK