Package: methylInheritance Version: 1.33.0 Command: /Library/Frameworks/R.framework/Resources/bin/R CMD check --install=check:methylInheritance.install-out.txt --library=/Library/Frameworks/R.framework/Resources/library --no-vignettes --timings methylInheritance_1.33.0.tar.gz StartedAt: 2025-05-26 20:09:37 -0400 (Mon, 26 May 2025) EndedAt: 2025-05-26 20:12:34 -0400 (Mon, 26 May 2025) EllapsedTime: 177.0 seconds RetCode: 0 Status: OK CheckDir: methylInheritance.Rcheck Warnings: 0