Package: methylInheritance Version: 1.33.0 Maintainer: Astrid DeschĂȘnes MaintainerEmail: adeschen at hotmail.com git_url: https://git.bioconductor.org/packages/methylInheritance git_branch: devel git_last_commit: 87b54aa git_last_commit_date: 2025-04-15 11:10:38 -0400 (Tue, 15 Apr 2025)