Package: methylCC Version: 1.23.0 Command: chmod a+r methylCC -R && F:\biocbuild\bbs-3.22-bioc\R\bin\R.exe CMD build --keep-empty-dirs --no-resave-data methylCC StartedAt: 2025-08-14 21:22:02 -0400 (Thu, 14 Aug 2025) EndedAt: 2025-08-14 21:26:55 -0400 (Thu, 14 Aug 2025) EllapsedTime: 293.7 seconds RetCode: 0 Status: OK PackageFile: methylCC_1.23.0.tar.gz PackageFileSize: 4.315 MiB