Package: methylCC Version: 1.23.0 Command: rm -rf methylCC.buildbin-libdir && mkdir methylCC.buildbin-libdir && F:\biocbuild\bbs-3.22-bioc\R\bin\R.exe CMD INSTALL --build --library=methylCC.buildbin-libdir methylCC_1.23.0.tar.gz StartedAt: 2025-08-15 10:40:35 -0400 (Fri, 15 Aug 2025) EndedAt: 2025-08-15 10:41:43 -0400 (Fri, 15 Aug 2025) EllapsedTime: 68.4 seconds RetCode: 0 Status: OK PackageFile: methylCC_1.23.0.zip PackageFileSize: 4.654 MiB