Package: methyLImp2 Version: 1.5.0 Command: chmod a+r methyLImp2 -R && F:\biocbuild\bbs-3.22-bioc\R\bin\R.exe CMD build --keep-empty-dirs --no-resave-data methyLImp2 StartedAt: 2025-08-14 21:22:53 -0400 (Thu, 14 Aug 2025) EndedAt: 2025-08-14 21:24:03 -0400 (Thu, 14 Aug 2025) EllapsedTime: 70.3 seconds RetCode: 0 Status: OK PackageFile: methyLImp2_1.5.0.tar.gz PackageFileSize: 1.261 MiB