Package: methyLImp2 Version: 1.7.1 Command: /home/biocbuild/bbs-3.23-bioc/R/bin/R CMD INSTALL methyLImp2 StartedAt: 2025-11-17 15:31:59 -0500 (Mon, 17 Nov 2025) EndedAt: 2025-11-17 15:32:19 -0500 (Mon, 17 Nov 2025) EllapsedTime: 20.5 seconds RetCode: 0 Status: OK