Package: methyLImp2 Version: 1.7.1 Command: /Library/Frameworks/R.framework/Resources/bin/R CMD INSTALL methyLImp2 StartedAt: 2025-11-13 15:18:20 -0500 (Thu, 13 Nov 2025) EndedAt: 2025-11-13 15:18:28 -0500 (Thu, 13 Nov 2025) EllapsedTime: 7.8 seconds RetCode: 0 Status: OK