Package: methrix Version: 1.23.1 Command: rm -rf methrix.buildbin-libdir && mkdir methrix.buildbin-libdir && F:\biocbuild\bbs-3.22-bioc\R\bin\R.exe CMD INSTALL --build --library=methrix.buildbin-libdir methrix_1.23.1.tar.gz StartedAt: 2025-08-15 10:40:25 -0400 (Fri, 15 Aug 2025) EndedAt: 2025-08-15 10:41:19 -0400 (Fri, 15 Aug 2025) EllapsedTime: 53.5 seconds RetCode: 0 Status: OK PackageFile: methrix_1.23.1.zip PackageFileSize: 3.154 MiB