Package: methrix Version: 1.25.0 Command: /home/biocbuild/bbs-3.23-bioc/R/bin/R CMD INSTALL methrix StartedAt: 2025-11-19 15:37:26 -0500 (Wed, 19 Nov 2025) EndedAt: 2025-11-19 15:38:08 -0500 (Wed, 19 Nov 2025) EllapsedTime: 41.5 seconds RetCode: 0 Status: OK