Package: methrix Version: 1.25.0 Command: /home/biocbuild/bbs-3.23-bioc/R/bin/R CMD build --keep-empty-dirs --no-resave-data methrix StartedAt: 2025-11-19 18:36:53 -0500 (Wed, 19 Nov 2025) EndedAt: 2025-11-19 18:40:29 -0500 (Wed, 19 Nov 2025) EllapsedTime: 216.1 seconds RetCode: 0 Status: OK PackageFile: methrix_1.25.0.tar.gz PackageFileSize: 3.993 MiB