Package: methrix Version: 1.23.0 Maintainer: Anand Mayakonda MaintainerEmail: anand_mt at hotmail.com git_url: https://git.bioconductor.org/packages/methrix git_branch: devel git_last_commit: 2f82b2b git_last_commit_date: 2025-04-15 11:52:20 -0400 (Tue, 15 Apr 2025)