Package: methodical Version: 1.5.0 Command: /Library/Frameworks/R.framework/Resources/bin/R CMD INSTALL methodical StartedAt: 2025-04-29 15:34:51 -0400 (Tue, 29 Apr 2025) EndedAt: 2025-04-29 15:35:46 -0400 (Tue, 29 Apr 2025) EllapsedTime: 54.6 seconds RetCode: 0 Status: OK