Package: methodical Version: 1.5.0 Command: rm -rf methodical.buildbin-libdir && mkdir methodical.buildbin-libdir && /Users/biocbuild/BBS/utils/build-universal.sh methodical_1.5.0.tar.gz /Library/Frameworks/R.framework/Resources/bin/R methodical.buildbin-libdir StartedAt: 2025-05-01 00:49:59 -0400 (Thu, 01 May 2025) EndedAt: 2025-05-01 00:50:44 -0400 (Thu, 01 May 2025) EllapsedTime: 45.0 seconds RetCode: 0 Status: OK PackageFile: methodical_1.5.0.tgz PackageFileSize: 4.532 MiB