Package: methodical Version: 1.5.0 Command: /Library/Frameworks/R.framework/Resources/bin/R CMD check --install=check:methodical.install-out.txt --library=/Library/Frameworks/R.framework/Resources/library --no-vignettes --timings methodical_1.5.0.tar.gz StartedAt: 2025-05-09 20:22:07 -0400 (Fri, 09 May 2025) EndedAt: 2025-05-09 20:26:50 -0400 (Fri, 09 May 2025) EllapsedTime: 283.3 seconds RetCode: 0 Status: WARNINGS CheckDir: methodical.Rcheck Warnings: 1