Package: methInheritSim Version: 1.31.1 Command: /home/biocbuild/R/R/bin/R CMD INSTALL methInheritSim StartedAt: 2025-10-23 20:50:47 -0000 (Thu, 23 Oct 2025) EndedAt: 2025-10-23 20:51:37 -0000 (Thu, 23 Oct 2025) EllapsedTime: 49.7 seconds RetCode: 0 Status: OK