Package: methInheritSim Version: 1.31.1 Command: /home/biocbuild/R/R/bin/R CMD build --keep-empty-dirs --no-resave-data methInheritSim StartedAt: 2025-10-21 01:05:24 -0000 (Tue, 21 Oct 2025) EndedAt: 2025-10-21 01:06:55 -0000 (Tue, 21 Oct 2025) EllapsedTime: 91.0 seconds RetCode: 0 Status: OK PackageFile: methInheritSim_1.31.1.tar.gz PackageFileSize: 1.141 MiB