Package: metaseqR2 Version: 1.21.1 Command: chmod a+r metaseqR2 -R && F:\biocbuild\bbs-3.22-bioc\R\bin\R.exe CMD build --keep-empty-dirs --no-resave-data metaseqR2 StartedAt: 2025-08-14 21:20:53 -0400 (Thu, 14 Aug 2025) EndedAt: 2025-08-14 21:29:57 -0400 (Thu, 14 Aug 2025) EllapsedTime: 544.6 seconds RetCode: 0 Status: OK PackageFile: metaseqR2_1.21.1.tar.gz PackageFileSize: 2.68 MiB