Package: metaseqR2 Version: 1.21.1 Command: rm -rf metaseqR2.buildbin-libdir && mkdir metaseqR2.buildbin-libdir && F:\biocbuild\bbs-3.22-bioc\R\bin\R.exe CMD INSTALL --build --library=metaseqR2.buildbin-libdir metaseqR2_1.21.1.tar.gz StartedAt: 2025-08-15 10:39:58 -0400 (Fri, 15 Aug 2025) EndedAt: 2025-08-15 10:42:13 -0400 (Fri, 15 Aug 2025) EllapsedTime: 135.3 seconds RetCode: 0 Status: OK PackageFile: metaseqR2_1.21.1.zip PackageFileSize: 4.52 MiB