Package: metapone Version: 1.15.0 Command: chmod a+r metapone -R && F:\biocbuild\bbs-3.22-bioc\R\bin\R.exe CMD build --keep-empty-dirs --no-resave-data metapone StartedAt: 2025-08-14 21:20:47 -0400 (Thu, 14 Aug 2025) EndedAt: 2025-08-14 21:38:36 -0400 (Thu, 14 Aug 2025) EllapsedTime: 1068.6 seconds RetCode: 0 Status: OK PackageFile: metapone_1.15.0.tar.gz PackageFileSize: 3.702 MiB