Package: metapod Version: 1.15.0 Command: E:\biocbuild\bbs-3.21-bioc\R\bin\R.exe CMD INSTALL metapod StartedAt: 2025-02-03 15:33:16 -0500 (Mon, 03 Feb 2025) EndedAt: 2025-02-03 15:34:45 -0500 (Mon, 03 Feb 2025) EllapsedTime: 89.6 seconds RetCode: 0 Status: OK