Package: metapod Version: 1.15.0 Command: E:\biocbuild\bbs-3.21-bioc\R\bin\R.exe CMD check --no-multiarch --install=check:metapod.install-out.txt --library=E:\biocbuild\bbs-3.21-bioc\R\library --no-vignettes --timings metapod_1.15.0.tar.gz StartedAt: 2025-02-04 03:12:26 -0500 (Tue, 04 Feb 2025) EndedAt: 2025-02-04 03:13:25 -0500 (Tue, 04 Feb 2025) EllapsedTime: 59.0 seconds RetCode: 0 Status: OK CheckDir: metapod.Rcheck Warnings: 0