Package: metapod Version: 1.15.0 Command: /home/biocbuild/bbs-3.21-bioc/R/bin/R CMD INSTALL metapod StartedAt: 2025-02-03 15:12:01 -0500 (Mon, 03 Feb 2025) EndedAt: 2025-02-03 15:12:26 -0500 (Mon, 03 Feb 2025) EllapsedTime: 25.1 seconds RetCode: 0 Status: OK