Package: metapod Version: 1.15.0 Command: /Library/Frameworks/R.framework/Resources/bin/R CMD INSTALL metapod StartedAt: 2025-02-03 15:09:34 -0500 (Mon, 03 Feb 2025) EndedAt: 2025-02-03 15:10:12 -0500 (Mon, 03 Feb 2025) EllapsedTime: 37.6 seconds RetCode: 0 Status: OK